Package: rtracklayer Version: 1.69.1 Command: rm -rf rtracklayer.buildbin-libdir && mkdir rtracklayer.buildbin-libdir && /Users/biocbuild/BBS/utils/build-universal.sh rtracklayer_1.69.1.tar.gz /Library/Frameworks/R.framework/Resources/bin/R rtracklayer.buildbin-libdir StartedAt: 2025-10-20 03:30:30 -0400 (Mon, 20 Oct 2025) EndedAt: 2025-10-20 03:32:08 -0400 (Mon, 20 Oct 2025) EllapsedTime: 98.0 seconds RetCode: 0 Status: OK PackageFile: rtracklayer_1.69.1.tgz PackageFileSize: 7.466 MiB