Package: rtracklayer Version: 1.69.1 Command: /Library/Frameworks/R.framework/Resources/bin/R CMD INSTALL rtracklayer StartedAt: 2025-10-23 15:16:00 -0400 (Thu, 23 Oct 2025) EndedAt: 2025-10-23 15:16:21 -0400 (Thu, 23 Oct 2025) EllapsedTime: 20.1 seconds RetCode: 0 Status: OK