Package: rtracklayer Version: 1.69.1 Command: rm -rf rtracklayer.buildbin-libdir && mkdir rtracklayer.buildbin-libdir && /Users/biocbuild/BBS/utils/build-universal.sh rtracklayer_1.69.1.tar.gz /Library/Frameworks/R.framework/Resources/bin/R rtracklayer.buildbin-libdir StartedAt: 2025-10-23 23:24:57 -0400 (Thu, 23 Oct 2025) EndedAt: 2025-10-23 23:25:21 -0400 (Thu, 23 Oct 2025) EllapsedTime: 23.5 seconds RetCode: 0 Status: OK PackageFile: rtracklayer_1.69.1.tgz PackageFileSize: 7.582 MiB