Package: rsbml Version: 2.67.0 Command: chmod a+r rsbml -R && F:\biocbuild\bbs-3.22-bioc\R\bin\R.exe CMD build --keep-empty-dirs --no-resave-data rsbml StartedAt: 2025-08-14 22:54:10 -0400 (Thu, 14 Aug 2025) EndedAt: 2025-08-14 22:57:23 -0400 (Thu, 14 Aug 2025) EllapsedTime: 193.6 seconds RetCode: 0 Status: OK PackageFile: rsbml_2.67.0.tar.gz PackageFileSize: 500.4 KiB