Package: rrvgo Version: 1.21.5 Command: rm -rf rrvgo.buildbin-libdir && mkdir rrvgo.buildbin-libdir && F:\biocbuild\bbs-3.22-bioc\R\bin\R.exe CMD INSTALL --build --library=rrvgo.buildbin-libdir rrvgo_1.21.5.tar.gz StartedAt: 2025-08-15 11:11:06 -0400 (Fri, 15 Aug 2025) EndedAt: 2025-08-15 11:11:36 -0400 (Fri, 15 Aug 2025) EllapsedTime: 29.8 seconds RetCode: 0 Status: OK PackageFile: rrvgo_1.21.5.zip PackageFileSize: 1.08 MiB