Package: rrvgo Version: 1.21.5 Command: /home/biocbuild/bbs-3.22-bioc/R/bin/R CMD INSTALL rrvgo StartedAt: 2025-10-20 15:44:24 -0400 (Mon, 20 Oct 2025) EndedAt: 2025-10-20 15:44:45 -0400 (Mon, 20 Oct 2025) EllapsedTime: 20.5 seconds RetCode: 0 Status: OK