Package: rrvgo Version: 1.21.5 Command: /home/biocbuild/bbs-3.22-bioc/R/bin/R CMD build --keep-empty-dirs --no-resave-data --md5 rrvgo StartedAt: 2025-10-20 19:39:49 -0400 (Mon, 20 Oct 2025) EndedAt: 2025-10-20 19:42:21 -0400 (Mon, 20 Oct 2025) EllapsedTime: 152.2 seconds RetCode: 0 Status: OK PackageFile: rrvgo_1.21.5.tar.gz PackageFileSize: 1.994 MiB