Package: rrvgo Version: 1.21.5 Command: /Library/Frameworks/R.framework/Resources/bin/R CMD INSTALL rrvgo StartedAt: 2025-10-21 15:37:39 -0400 (Tue, 21 Oct 2025) EndedAt: 2025-10-21 15:38:08 -0400 (Tue, 21 Oct 2025) EllapsedTime: 29.1 seconds RetCode: 0 Status: OK