Package: rrvgo Version: 1.21.5 Command: /Library/Frameworks/R.framework/Resources/bin/R CMD check --install=check:rrvgo.install-out.txt --library=/Library/Frameworks/R.framework/Resources/library --no-vignettes --timings rrvgo_1.21.5.tar.gz StartedAt: 2025-10-22 00:38:19 -0400 (Wed, 22 Oct 2025) EndedAt: 2025-10-22 01:00:46 -0400 (Wed, 22 Oct 2025) EllapsedTime: 1347.0 seconds RetCode: 0 Status: OK CheckDir: rrvgo.Rcheck Warnings: 0