Package: rrvgo Version: 1.21.5 Command: rm -rf rrvgo.buildbin-libdir && mkdir rrvgo.buildbin-libdir && /Users/biocbuild/BBS/utils/build-universal.sh rrvgo_1.21.5.tar.gz /Library/Frameworks/R.framework/Resources/bin/R rrvgo.buildbin-libdir StartedAt: 2025-10-22 02:45:16 -0400 (Wed, 22 Oct 2025) EndedAt: 2025-10-22 02:45:48 -0400 (Wed, 22 Oct 2025) EllapsedTime: 32.3 seconds RetCode: 0 Status: OK PackageFile: rrvgo_1.21.5.tgz PackageFileSize: 1.406 MiB