Package: rqubic Version: 1.55.0 Command: /home/biocbuild/R/R/bin/R CMD INSTALL rqubic StartedAt: 2025-10-20 20:24:05 -0000 (Mon, 20 Oct 2025) EndedAt: 2025-10-20 20:24:18 -0000 (Mon, 20 Oct 2025) EllapsedTime: 13.1 seconds RetCode: 0 Status: OK