Package: rqubic Version: 1.55.0 Command: F:\biocbuild\bbs-3.22-bioc\R\bin\R.exe CMD check --no-multiarch --install=check:rqubic.install-out.txt --library=F:\biocbuild\bbs-3.22-bioc\R\library --no-vignettes --timings rqubic_1.55.0.tar.gz StartedAt: 2025-08-15 07:17:47 -0400 (Fri, 15 Aug 2025) EndedAt: 2025-08-15 07:19:04 -0400 (Fri, 15 Aug 2025) EllapsedTime: 77.3 seconds RetCode: 0 Status: WARNINGS CheckDir: rqubic.Rcheck Warnings: 1