Package: rqubic Version: 1.55.0 Command: rm -rf rqubic.buildbin-libdir && mkdir rqubic.buildbin-libdir && F:\biocbuild\bbs-3.22-bioc\R\bin\R.exe CMD INSTALL --build --library=rqubic.buildbin-libdir rqubic_1.55.0.tar.gz StartedAt: 2025-08-15 11:10:57 -0400 (Fri, 15 Aug 2025) EndedAt: 2025-08-15 11:11:38 -0400 (Fri, 15 Aug 2025) EllapsedTime: 41.4 seconds RetCode: 0 Status: OK PackageFile: rqubic_1.55.0.zip PackageFileSize: 437.6 KiB