Package: rqubic Version: 1.55.0 Command: /Library/Frameworks/R.framework/Resources/bin/R CMD INSTALL rqubic StartedAt: 2025-10-08 15:18:16 -0400 (Wed, 08 Oct 2025) EndedAt: 2025-10-08 15:18:35 -0400 (Wed, 08 Oct 2025) EllapsedTime: 18.7 seconds RetCode: 0 Status: OK