Package: rqubic Version: 1.55.0 Command: /Library/Frameworks/R.framework/Resources/bin/R CMD check --install=check:rqubic.install-out.txt --library=/Library/Frameworks/R.framework/Resources/library --no-vignettes --timings rqubic_1.55.0.tar.gz StartedAt: 2025-10-10 00:45:11 -0400 (Fri, 10 Oct 2025) EndedAt: 2025-10-10 00:46:35 -0400 (Fri, 10 Oct 2025) EllapsedTime: 84.3 seconds RetCode: 0 Status: OK CheckDir: rqubic.Rcheck Warnings: 0