Package: rqubic Version: 1.56.0 Command: /Library/Frameworks/R.framework/Resources/bin/R CMD INSTALL rqubic StartedAt: 2025-11-10 15:06:52 -0500 (Mon, 10 Nov 2025) EndedAt: 2025-11-10 15:06:56 -0500 (Mon, 10 Nov 2025) EllapsedTime: 3.9 seconds RetCode: 0 Status: OK