Package: rqubic Version: 1.56.0 Command: /Library/Frameworks/R.framework/Resources/bin/R CMD check --install=check:rqubic.install-out.txt --library=/Library/Frameworks/R.framework/Resources/library --no-vignettes --timings rqubic_1.56.0.tar.gz StartedAt: 2025-11-10 22:04:22 -0500 (Mon, 10 Nov 2025) EndedAt: 2025-11-10 22:04:49 -0500 (Mon, 10 Nov 2025) EllapsedTime: 27.4 seconds RetCode: 0 Status: OK CheckDir: rqubic.Rcheck Warnings: 0