Package: rqubic Version: 1.56.0 Command: /Library/Frameworks/R.framework/Resources/bin/R CMD build --keep-empty-dirs --no-resave-data rqubic StartedAt: 2025-11-10 17:34:55 -0500 (Mon, 10 Nov 2025) EndedAt: 2025-11-10 17:35:04 -0500 (Mon, 10 Nov 2025) EllapsedTime: 8.1 seconds RetCode: 0 Status: OK PackageFile: rqubic_1.56.0.tar.gz PackageFileSize: 189.3 KiB