Package: rqubic Version: 1.56.0 Command: /Library/Frameworks/R.framework/Resources/bin/R CMD INSTALL rqubic StartedAt: 2025-11-17 17:11:57 -0500 (Mon, 17 Nov 2025) EndedAt: 2025-11-17 17:12:01 -0500 (Mon, 17 Nov 2025) EllapsedTime: 3.5 seconds RetCode: 0 Status: OK