Package: rqubic Version: 1.56.0 Command: rm -rf rqubic.buildbin-libdir && mkdir rqubic.buildbin-libdir && /Users/biocbuild/BBS/utils/build-universal.sh rqubic_1.56.0.tar.gz /Library/Frameworks/R.framework/Resources/bin/R rqubic.buildbin-libdir StartedAt: 2025-11-18 16:17:58 -0500 (Tue, 18 Nov 2025) EndedAt: 2025-11-18 16:18:05 -0500 (Tue, 18 Nov 2025) EllapsedTime: 7.1 seconds RetCode: 0 Status: OK PackageFile: rqubic_1.56.0.tgz PackageFileSize: 436.6 KiB