Package: rqt Version: 1.35.0 Command: /home/biocbuild/bbs-3.22-bioc/R/bin/R CMD INSTALL rqt StartedAt: 2025-10-19 15:22:39 -0400 (Sun, 19 Oct 2025) EndedAt: 2025-10-19 15:23:06 -0400 (Sun, 19 Oct 2025) EllapsedTime: 26.8 seconds RetCode: 0 Status: OK