Package: rqt Version: 1.35.0 Command: /home/biocbuild/bbs-3.22-bioc/R/bin/R CMD build --keep-empty-dirs --no-resave-data --md5 rqt StartedAt: 2025-10-19 19:43:54 -0400 (Sun, 19 Oct 2025) EndedAt: 2025-10-19 19:44:37 -0400 (Sun, 19 Oct 2025) EllapsedTime: 43.1 seconds RetCode: 0 Status: OK PackageFile: rqt_1.35.0.tar.gz PackageFileSize: 543.2 KiB