Package: rqt Version: 1.35.0 Command: /Library/Frameworks/R.framework/Resources/bin/R CMD INSTALL rqt StartedAt: 2025-10-19 15:23:44 -0400 (Sun, 19 Oct 2025) EndedAt: 2025-10-19 15:24:22 -0400 (Sun, 19 Oct 2025) EllapsedTime: 37.3 seconds RetCode: 0 Status: OK