Package: rqt Version: 1.35.0 Command: /Library/Frameworks/R.framework/Resources/bin/R CMD INSTALL rqt StartedAt: 2025-10-19 15:13:25 -0400 (Sun, 19 Oct 2025) EndedAt: 2025-10-19 15:13:36 -0400 (Sun, 19 Oct 2025) EllapsedTime: 11.5 seconds RetCode: 0 Status: OK