Package: rqt Version: 1.35.0 Command: /Library/Frameworks/R.framework/Resources/bin/R CMD check --install=check:rqt.install-out.txt --library=/Library/Frameworks/R.framework/Resources/library --no-vignettes --timings rqt_1.35.0.tar.gz StartedAt: 2025-10-19 21:43:02 -0400 (Sun, 19 Oct 2025) EndedAt: 2025-10-19 21:44:12 -0400 (Sun, 19 Oct 2025) EllapsedTime: 70.0 seconds RetCode: 0 Status: OK CheckDir: rqt.Rcheck Warnings: 0