Package: rprimer Version: 1.13.0 Command: /home/biocbuild/R/R/bin/R CMD build --keep-empty-dirs --no-resave-data rprimer StartedAt: 2025-10-21 02:38:31 -0000 (Tue, 21 Oct 2025) EndedAt: 2025-10-21 02:40:04 -0000 (Tue, 21 Oct 2025) EllapsedTime: 93.1 seconds RetCode: 0 Status: OK PackageFile: rprimer_1.13.0.tar.gz PackageFileSize: 1.818 MiB