Package: rprimer Version: 1.13.0 Command: /home/biocbuild/bbs-3.22-bioc/R/bin/R CMD INSTALL rprimer StartedAt: 2025-10-23 15:31:00 -0400 (Thu, 23 Oct 2025) EndedAt: 2025-10-23 15:31:18 -0400 (Thu, 23 Oct 2025) EllapsedTime: 18.6 seconds RetCode: 0 Status: OK