Package: rprimer Version: 1.13.0 Command: /Library/Frameworks/R.framework/Resources/bin/R CMD build --keep-empty-dirs --no-resave-data rprimer StartedAt: 2025-10-23 18:26:44 -0400 (Thu, 23 Oct 2025) EndedAt: 2025-10-23 18:28:02 -0400 (Thu, 23 Oct 2025) EllapsedTime: 78.8 seconds RetCode: 0 Status: OK PackageFile: rprimer_1.13.0.tar.gz PackageFileSize: 3.22 MiB