Package: rprimer Version: 1.13.0 Command: /Library/Frameworks/R.framework/Resources/bin/R CMD INSTALL rprimer StartedAt: 2025-10-23 15:08:51 -0400 (Thu, 23 Oct 2025) EndedAt: 2025-10-23 15:08:59 -0400 (Thu, 23 Oct 2025) EllapsedTime: 7.6 seconds RetCode: 0 Status: OK