Package: rprimer Version: 1.13.0 Command: /Library/Frameworks/R.framework/Resources/bin/R CMD build --keep-empty-dirs --no-resave-data rprimer StartedAt: 2025-10-24 17:34:25 -0400 (Fri, 24 Oct 2025) EndedAt: 2025-10-24 17:34:50 -0400 (Fri, 24 Oct 2025) EllapsedTime: 25.3 seconds RetCode: 0 Status: OK PackageFile: rprimer_1.13.0.tar.gz PackageFileSize: 3.281 MiB