Package: rols Version: 3.6.0 Command: /home/biocbuild/R/R/bin/R CMD INSTALL rols StartedAt: 2025-11-20 22:01:41 -0000 (Thu, 20 Nov 2025) EndedAt: 2025-11-20 22:01:51 -0000 (Thu, 20 Nov 2025) EllapsedTime: 9.4 seconds RetCode: 0 Status: OK