Package: rols Version: 3.5.0 Command: /home/biocbuild/R/R/bin/R CMD check --install=check:rols.install-out.txt --library=/home/biocbuild/R/R/site-library --no-vignettes --timings rols_3.5.0.tar.gz StartedAt: 2025-09-12 11:18:49 -0000 (Fri, 12 Sep 2025) EndedAt: 2025-09-12 11:21:41 -0000 (Fri, 12 Sep 2025) EllapsedTime: 172.2 seconds RetCode: 0 Status: OK CheckDir: rols.Rcheck Warnings: 0