Package: rols Version: 3.6.0 Command: /home/biocbuild/R/R/bin/R CMD build --keep-empty-dirs --no-resave-data rols StartedAt: 2025-11-21 05:21:11 -0000 (Fri, 21 Nov 2025) EndedAt: 2025-11-21 05:21:25 -0000 (Fri, 21 Nov 2025) EllapsedTime: 14.0 seconds RetCode: 1 Status: ERROR PackageFile: None PackageFileSize: NA