Package: rols Version: 3.5.0 Command: /home/biocbuild/bbs-3.22-bioc/R/bin/R CMD check --install=check:rols.install-out.txt --library=/home/biocbuild/bbs-3.22-bioc/R/site-library --timings rols_3.5.0.tar.gz StartedAt: 2025-09-12 03:23:16 -0400 (Fri, 12 Sep 2025) EndedAt: 2025-09-12 03:26:14 -0400 (Fri, 12 Sep 2025) EllapsedTime: 178.1 seconds RetCode: 0 Status: OK CheckDir: rols.Rcheck Warnings: 0