Package: rols Version: 3.5.0 Command: /Library/Frameworks/R.framework/Resources/bin/R CMD check --install=check:rols.install-out.txt --library=/Library/Frameworks/R.framework/Resources/library --no-vignettes --timings rols_3.5.0.tar.gz StartedAt: 2025-09-11 23:25:29 -0400 (Thu, 11 Sep 2025) EndedAt: 2025-09-11 23:28:11 -0400 (Thu, 11 Sep 2025) EllapsedTime: 161.8 seconds RetCode: 0 Status: OK CheckDir: rols.Rcheck Warnings: 0