Package: rols Version: 3.6.0 Command: /Library/Frameworks/R.framework/Resources/bin/R CMD build --keep-empty-dirs --no-resave-data rols StartedAt: 2025-11-03 18:31:36 -0500 (Mon, 03 Nov 2025) EndedAt: 2025-11-03 18:31:57 -0500 (Mon, 03 Nov 2025) EllapsedTime: 20.6 seconds RetCode: 1 Status: ERROR PackageFile: None PackageFileSize: NA