Package: rols Version: 3.6.0 Command: /Library/Frameworks/R.framework/Resources/bin/R CMD INSTALL rols StartedAt: 2025-11-10 15:07:58 -0500 (Mon, 10 Nov 2025) EndedAt: 2025-11-10 15:08:00 -0500 (Mon, 10 Nov 2025) EllapsedTime: 2.5 seconds RetCode: 0 Status: OK