Package: rols Version: 3.6.0 Command: /Library/Frameworks/R.framework/Resources/bin/R CMD build --keep-empty-dirs --no-resave-data rols StartedAt: 2025-11-10 17:34:26 -0500 (Mon, 10 Nov 2025) EndedAt: 2025-11-10 17:34:31 -0500 (Mon, 10 Nov 2025) EllapsedTime: 5.1 seconds RetCode: 1 Status: ERROR PackageFile: None PackageFileSize: NA