Package: rols Version: 3.5.0 Command: rm -rf rols.buildbin-libdir && mkdir rols.buildbin-libdir && /Users/biocbuild/BBS/utils/build-universal.sh rols_3.5.0.tar.gz /Library/Frameworks/R.framework/Resources/bin/R rols.buildbin-libdir StartedAt: 2025-09-12 22:50:27 -0400 (Fri, 12 Sep 2025) EndedAt: 2025-09-12 22:50:30 -0400 (Fri, 12 Sep 2025) EllapsedTime: 3.1 seconds RetCode: 0 Status: OK PackageFile: rols_3.5.0.tgz PackageFileSize: 654.1 KiB