Package: roastgsa Version: 1.7.0 Command: /home/biocbuild/R/R/bin/R CMD build --keep-empty-dirs --no-resave-data roastgsa StartedAt: 2025-10-21 02:36:39 -0000 (Tue, 21 Oct 2025) EndedAt: 2025-10-21 02:38:47 -0000 (Tue, 21 Oct 2025) EllapsedTime: 128.1 seconds RetCode: 0 Status: OK PackageFile: roastgsa_1.7.0.tar.gz PackageFileSize: 1.49 MiB