Package: roastgsa Version: 1.7.0 Command: chmod a+r roastgsa -R && F:\biocbuild\bbs-3.22-bioc\R\bin\R.exe CMD build --keep-empty-dirs --no-resave-data roastgsa StartedAt: 2025-08-14 22:50:53 -0400 (Thu, 14 Aug 2025) EndedAt: 2025-08-14 22:52:53 -0400 (Thu, 14 Aug 2025) EllapsedTime: 119.9 seconds RetCode: 0 Status: OK PackageFile: roastgsa_1.7.0.tar.gz PackageFileSize: 1.475 MiB