Package: roar Version: 1.45.0 Command: /home/biocbuild/R/R/bin/R CMD build --keep-empty-dirs --no-resave-data roar StartedAt: 2025-10-17 04:06:32 -0000 (Fri, 17 Oct 2025) EndedAt: 2025-10-17 04:09:01 -0000 (Fri, 17 Oct 2025) EllapsedTime: 149.1 seconds RetCode: 0 Status: OK PackageFile: roar_1.45.0.tar.gz PackageFileSize: 889.7 KiB