Package: roar Version: 1.45.0 Command: F:\biocbuild\bbs-3.22-bioc\R\bin\R.exe CMD check --no-multiarch --install=check:roar.install-out.txt --library=F:\biocbuild\bbs-3.22-bioc\R\library --no-vignettes --timings roar_1.45.0.tar.gz StartedAt: 2025-08-15 07:13:22 -0400 (Fri, 15 Aug 2025) EndedAt: 2025-08-15 07:18:12 -0400 (Fri, 15 Aug 2025) EllapsedTime: 289.9 seconds RetCode: 0 Status: OK CheckDir: roar.Rcheck Warnings: 0