Package: roar Version: 1.45.0 Command: /home/biocbuild/bbs-3.22-bioc/R/bin/R CMD check --install=check:roar.install-out.txt --library=/home/biocbuild/bbs-3.22-bioc/R/site-library --timings roar_1.45.0.tar.gz StartedAt: 2025-10-20 04:07:14 -0400 (Mon, 20 Oct 2025) EndedAt: 2025-10-20 04:12:19 -0400 (Mon, 20 Oct 2025) EllapsedTime: 304.3 seconds RetCode: 0 Status: OK CheckDir: roar.Rcheck Warnings: 0