Package: roar Version: 1.45.0 Command: /Library/Frameworks/R.framework/Resources/bin/R CMD INSTALL roar StartedAt: 2025-10-19 15:32:40 -0400 (Sun, 19 Oct 2025) EndedAt: 2025-10-19 15:33:27 -0400 (Sun, 19 Oct 2025) EllapsedTime: 46.6 seconds RetCode: 0 Status: OK