Package: roar Version: 1.45.0 Command: /Library/Frameworks/R.framework/Resources/bin/R CMD check --install=check:roar.install-out.txt --library=/Library/Frameworks/R.framework/Resources/library --no-vignettes --timings roar_1.45.0.tar.gz StartedAt: 2025-10-22 00:34:39 -0400 (Wed, 22 Oct 2025) EndedAt: 2025-10-22 00:39:12 -0400 (Wed, 22 Oct 2025) EllapsedTime: 272.7 seconds RetCode: 0 Status: OK CheckDir: roar.Rcheck Warnings: 0