Package: roar Version: 1.45.0 Command: rm -rf roar.buildbin-libdir && mkdir roar.buildbin-libdir && /Users/biocbuild/BBS/utils/build-universal.sh roar_1.45.0.tar.gz /Library/Frameworks/R.framework/Resources/bin/R roar.buildbin-libdir StartedAt: 2025-10-20 03:29:38 -0400 (Mon, 20 Oct 2025) EndedAt: 2025-10-20 03:30:27 -0400 (Mon, 20 Oct 2025) EllapsedTime: 48.4 seconds RetCode: 0 Status: OK PackageFile: roar_1.45.0.tgz PackageFileSize: 1.244 MiB