Package: roar Version: 1.45.0 Command: /Library/Frameworks/R.framework/Resources/bin/R CMD build --keep-empty-dirs --no-resave-data roar StartedAt: 2025-10-19 17:31:01 -0400 (Sun, 19 Oct 2025) EndedAt: 2025-10-19 17:31:44 -0400 (Sun, 19 Oct 2025) EllapsedTime: 43.5 seconds RetCode: 0 Status: OK PackageFile: roar_1.45.0.tar.gz PackageFileSize: 901.7 KiB