Package: roar Version: 1.45.0 Command: rm -rf roar.buildbin-libdir && mkdir roar.buildbin-libdir && /Users/biocbuild/BBS/utils/build-universal.sh roar_1.45.0.tar.gz /Library/Frameworks/R.framework/Resources/bin/R roar.buildbin-libdir StartedAt: 2025-10-19 23:13:45 -0400 (Sun, 19 Oct 2025) EndedAt: 2025-10-19 23:14:00 -0400 (Sun, 19 Oct 2025) EllapsedTime: 14.3 seconds RetCode: 0 Status: OK PackageFile: roar_1.45.0.tgz PackageFileSize: 1.245 MiB