Package: roar Version: 1.45.0 Maintainer: Elena Grassi MaintainerEmail: grassi.e at gmail.com git_url: https://git.bioconductor.org/packages/roar git_branch: devel git_last_commit: b80b0b5 git_last_commit_date: 2025-04-15 10:28:04 -0400 (Tue, 15 Apr 2025)